BEGIN:VCALENDAR
METHOD:PUBLISH
PRODID:Microsoft Exchange Server 2010
VERSION:2.0
BEGIN:VTIMEZONE
TZID:tzone://Microsoft/Utc
BEGIN:STANDARD
DTSTART:16010101T000000
TZOFFSETFROM:+0000
TZOFFSETTO:+0000
END:STANDARD
BEGIN:DAYLIGHT
DTSTART:16010101T000000
TZOFFSETFROM:+0000
TZOFFSETTO:+0000
END:DAYLIGHT
END:VTIMEZONE
BEGIN:VEVENT
ORGANIZER;CN=rdippel@iwcs.org:mailto:rdippel@iwcs.org
DESCRIPTION:\n
UID:040000008200E00074C5B7101A82E00800000000AD77B9D25713DB01000000000000000
 010000000D7F60E07F833A742A3CF8489DEE88A79
SUMMARY:2026 IWCS Cable & Connectivity Industry Forum
DTSTART;VALUE=DATE:20261101
DTEND;VALUE=DATE:20261105
CLASS:PUBLIC
PRIORITY:5
DTSTAMP:20240930T164320Z
TRANSP:TRANSPARENT
STATUS:CONFIRMED
LOCATION:Gaylord Palms Resort & Convention Center\, 6000 W Osceola Pkwy\, K
 issimmee\, FL 34746
X-MICROSOFT-CDO-BUSYSTATUS:FREE
X-MICROSOFT-CDO-INTENDEDSTATUS:BUSY
X-MICROSOFT-CDO-ALLDAYEVENT:TRUE
X-MICROSOFT-CDO-IMPORTANCE:1
X-MICROSOFT-CDO-INSTTYPE:0
X-MICROSOFT-ONLINEMEETINGEXTERNALLINK:
X-MICROSOFT-ONLINEMEETINGCONFLINK:
X-MICROSOFT-DONOTFORWARDMEETING:FALSE
X-MICROSOFT-DISALLOW-COUNTER:TRUE
X-MICROSOFT-LOCATIONDISPLAYNAME:Gaylord Palms Resort & Convention Center\, 
 6000 W Osceola Pkwy\, Kissimmee\, FL 34746
BEGIN:VALARM
DESCRIPTION:REMINDER
TRIGGER;RELATED=START:-P1W
ACTION:DISPLAY
END:VALARM
END:VEVENT
END:VCALENDAR
