BEGIN:VCALENDAR
METHOD:PUBLISH
PRODID:Microsoft Exchange Server 2010
VERSION:2.0
BEGIN:VTIMEZONE
TZID:tzone://Microsoft/Utc
BEGIN:STANDARD
DTSTART:16010101T000000
TZOFFSETFROM:+0000
TZOFFSETTO:+0000
END:STANDARD
BEGIN:DAYLIGHT
DTSTART:16010101T000000
TZOFFSETFROM:+0000
TZOFFSETTO:+0000
END:DAYLIGHT
END:VTIMEZONE
BEGIN:VEVENT
ORGANIZER;CN=rdippel@iwcs.org:mailto:rdippel@iwcs.org
DESCRIPTION:\n
UID:040000008200E00074C5B7101A82E00800000000329402735713DB01000000000000000
 0100000006159B05CC515744E89C799DC2A4FE59D
SUMMARY:2025 IWCS Cable & Connectivity Industry Forum
DTSTART;VALUE=DATE:20251027
DTEND;VALUE=DATE:20251031
CLASS:PUBLIC
PRIORITY:5
DTSTAMP:20240930T164359Z
TRANSP:TRANSPARENT
STATUS:CONFIRMED
LOCATION:David L. Lawrence Convention Center\, 1000 Fort Duquesne Blvd\, Pi
 ttsburgh\, PA 15222
X-MICROSOFT-CDO-BUSYSTATUS:FREE
X-MICROSOFT-CDO-INTENDEDSTATUS:BUSY
X-MICROSOFT-CDO-ALLDAYEVENT:TRUE
X-MICROSOFT-CDO-IMPORTANCE:1
X-MICROSOFT-CDO-INSTTYPE:0
X-MICROSOFT-ONLINEMEETINGEXTERNALLINK:
X-MICROSOFT-ONLINEMEETINGCONFLINK:
X-MICROSOFT-DONOTFORWARDMEETING:FALSE
X-MICROSOFT-DISALLOW-COUNTER:TRUE
X-MICROSOFT-LOCATIONDISPLAYNAME:David L. Lawrence Convention Center\, 1000 
 Fort Duquesne Blvd\, Pittsburgh\, PA 15222
BEGIN:VALARM
DESCRIPTION:REMINDER
TRIGGER;RELATED=START:-P1W
ACTION:DISPLAY
END:VALARM
END:VEVENT
END:VCALENDAR
